BEGIN:VCALENDAR
VERSION:2.0
PRODID:-//Visans Vänner Västerås - ECPv6.15.20//NONSGML v1.0//EN
CALSCALE:GREGORIAN
METHOD:PUBLISH
X-ORIGINAL-URL:https://www.visansvannervasteras.se
X-WR-CALDESC:Händelser för Visans Vänner Västerås
REFRESH-INTERVAL;VALUE=DURATION:PT1H
X-Robots-Tag:noindex
X-PUBLISHED-TTL:PT1H
BEGIN:VTIMEZONE
TZID:Europe/Stockholm
BEGIN:DAYLIGHT
TZOFFSETFROM:+0100
TZOFFSETTO:+0200
TZNAME:CEST
DTSTART:20230326T010000
END:DAYLIGHT
BEGIN:STANDARD
TZOFFSETFROM:+0200
TZOFFSETTO:+0100
TZNAME:CET
DTSTART:20231029T010000
END:STANDARD
BEGIN:DAYLIGHT
TZOFFSETFROM:+0100
TZOFFSETTO:+0200
TZNAME:CEST
DTSTART:20240331T010000
END:DAYLIGHT
BEGIN:STANDARD
TZOFFSETFROM:+0200
TZOFFSETTO:+0100
TZNAME:CET
DTSTART:20241027T010000
END:STANDARD
BEGIN:DAYLIGHT
TZOFFSETFROM:+0100
TZOFFSETTO:+0200
TZNAME:CEST
DTSTART:20250330T010000
END:DAYLIGHT
BEGIN:STANDARD
TZOFFSETFROM:+0200
TZOFFSETTO:+0100
TZNAME:CET
DTSTART:20251026T010000
END:STANDARD
END:VTIMEZONE
BEGIN:VEVENT
DTSTART;TZID=Europe/Stockholm:20240517T173000
DTEND;TZID=Europe/Stockholm:20240517T210000
DTSTAMP:20260423T014832
CREATED:20231230T115847Z
LAST-MODIFIED:20231230T120020Z
UID:258-1715967000-1715979600@www.visansvannervasteras.se
SUMMARY:Vismöte Maj
DESCRIPTION:Vismöte mitt i sköna maj på Norges Nationaldag! \nTema och programvärd är öppet för förslag!
URL:https://www.visansvannervasteras.se/event/vismote-maj/
LOCATION:ABF Ängsgärdet\, Pilgatan 2\, Västerås\, Sverige
ORGANIZER;CN="Per H%C3%A4gg":MAILTO:per@haggsmusic.se
END:VEVENT
END:VCALENDAR