BEGIN:VCALENDAR
VERSION:2.0
PRODID:-//Visans Vänner Västerås - ECPv6.15.20//NONSGML v1.0//EN
CALSCALE:GREGORIAN
METHOD:PUBLISH
X-WR-CALNAME:Visans Vänner Västerås
X-ORIGINAL-URL:https://www.visansvannervasteras.se
X-WR-CALDESC:Händelser för Visans Vänner Västerås
REFRESH-INTERVAL;VALUE=DURATION:PT1H
X-Robots-Tag:noindex
X-PUBLISHED-TTL:PT1H
BEGIN:VTIMEZONE
TZID:Europe/Stockholm
BEGIN:DAYLIGHT
TZOFFSETFROM:+0100
TZOFFSETTO:+0200
TZNAME:CEST
DTSTART:20220327T010000
END:DAYLIGHT
BEGIN:STANDARD
TZOFFSETFROM:+0200
TZOFFSETTO:+0100
TZNAME:CET
DTSTART:20221030T010000
END:STANDARD
BEGIN:DAYLIGHT
TZOFFSETFROM:+0100
TZOFFSETTO:+0200
TZNAME:CEST
DTSTART:20230326T010000
END:DAYLIGHT
BEGIN:STANDARD
TZOFFSETFROM:+0200
TZOFFSETTO:+0100
TZNAME:CET
DTSTART:20231029T010000
END:STANDARD
BEGIN:DAYLIGHT
TZOFFSETFROM:+0100
TZOFFSETTO:+0200
TZNAME:CEST
DTSTART:20240331T010000
END:DAYLIGHT
BEGIN:STANDARD
TZOFFSETFROM:+0200
TZOFFSETTO:+0100
TZNAME:CET
DTSTART:20241027T010000
END:STANDARD
BEGIN:DAYLIGHT
TZOFFSETFROM:+0100
TZOFFSETTO:+0200
TZNAME:CEST
DTSTART:20250330T010000
END:DAYLIGHT
BEGIN:STANDARD
TZOFFSETFROM:+0200
TZOFFSETTO:+0100
TZNAME:CET
DTSTART:20251026T010000
END:STANDARD
END:VTIMEZONE
BEGIN:VEVENT
DTSTART;TZID=Europe/Stockholm:20240119T173000
DTEND;TZID=Europe/Stockholm:20240119T210000
DTSTAMP:20260419T225515
CREATED:20231229T133248Z
LAST-MODIFIED:20231230T114129Z
UID:236-1705685400-1705698000@www.visansvannervasteras.se
SUMMARY:Vismöte Januari - ”Den litterära visan”
DESCRIPTION:Fredagen den 19 januari träffas vi för årets första vismöte med tema ”Den litterära visan”. \nLisbet Gemzell är programvärd
URL:https://www.visansvannervasteras.se/event/vismote-januari/
LOCATION:ABF Ängsgärdet\, Pilgatan 2\, Västerås\, Sverige
ORGANIZER;CN="Per H%C3%A4gg":MAILTO:per@haggsmusic.se
END:VEVENT
BEGIN:VEVENT
DTSTART;TZID=Europe/Stockholm:20231208T173000
DTEND;TZID=Europe/Stockholm:20231208T210000
DTSTAMP:20260419T225515
CREATED:20231009T084423Z
LAST-MODIFIED:20231021T133618Z
UID:199-1702056600-1702069200@www.visansvannervasteras.se
SUMMARY:Vismöte och Julfest
DESCRIPTION:Visans Vänner Västerås Årliga Julfest \nProgramvärd Lisbet Gemzell och Håkan Janson
URL:https://www.visansvannervasteras.se/event/vismote-och-julfest/
LOCATION:ABF Ängsgärdet\, Pilgatan 2\, Västerås\, Sverige
ORGANIZER;CN="Per H%C3%A4gg":MAILTO:per@haggsmusic.se
END:VEVENT
BEGIN:VEVENT
DTSTART;TZID=Europe/Stockholm:20231110T173000
DTEND;TZID=Europe/Stockholm:20231110T210000
DTSTAMP:20260419T225515
CREATED:20231009T084206Z
LAST-MODIFIED:20231021T133232Z
UID:197-1699637400-1699650000@www.visansvannervasteras.se
SUMMARY:Vismöte - Tema Musik från Grekland
DESCRIPTION:Vismöte med tema Musik från Grekland \nProgramvärd:  Dick Söderholm med hjälp av  Gunnar Törngren
URL:https://www.visansvannervasteras.se/event/vismote-tema-cornelis-vreeswijk/
LOCATION:ABF Ängsgärdet\, Pilgatan 2\, Västerås\, Sverige
ORGANIZER;CN="Per H%C3%A4gg":MAILTO:per@haggsmusic.se
END:VEVENT
BEGIN:VEVENT
DTSTART;TZID=Europe/Stockholm:20231024T130000
DTEND;TZID=Europe/Stockholm:20231024T150000
DTSTAMP:20260419T225515
CREATED:20231009T083521Z
LAST-MODIFIED:20231021T133838Z
UID:194-1698152400-1698159600@www.visansvannervasteras.se
SUMMARY:Träffpunkt Tomas
DESCRIPTION:Visans Vänner underhåller på Träffpunkt Tomas med start kl. 13\, Tema Hösten \nProgramvärd: Per-Åke Folkesson
URL:https://www.visansvannervasteras.se/event/traffpunkt-tomas/
LOCATION:Tomasgården Skiljebo\, Cedergatan 1\, Västerås
END:VEVENT
BEGIN:VEVENT
DTSTART;TZID=Europe/Stockholm:20231013T173000
DTEND;TZID=Europe/Stockholm:20231013T210000
DTSTAMP:20260419T225515
CREATED:20230904T142229Z
LAST-MODIFIED:20231009T085233Z
UID:32-1697218200-1697230800@www.visansvannervasteras.se
SUMMARY:Vismöte - Tema Hösten
DESCRIPTION:Vismöte – Tema Hösten \nProgramansvarig: Per-Åke Folkesson
URL:https://www.visansvannervasteras.se/event/vismote/
LOCATION:ABF Ängsgärdet\, Pilgatan 2\, Västerås\, Sverige
END:VEVENT
BEGIN:VEVENT
DTSTART;TZID=Europe/Stockholm:20230923T120000
DTEND;TZID=Europe/Stockholm:20230923T160000
DTSTAMP:20260419T225515
CREATED:20230904T141937Z
LAST-MODIFIED:20230917T112254Z
UID:29-1695470400-1695484800@www.visansvannervasteras.se
SUMMARY:Skördefest på Västerås Officersmäss
DESCRIPTION:
URL:https://www.visansvannervasteras.se/event/skordefest/
LOCATION:Västerås Officersmäss\, Flottiljgatan 73\, Västerås\, Sverige
END:VEVENT
BEGIN:VEVENT
DTSTART;TZID=Europe/Stockholm:20230915T180000
DTEND;TZID=Europe/Stockholm:20230915T210000
DTSTAMP:20260419T225515
CREATED:20230904T142526Z
LAST-MODIFIED:20230904T142526Z
UID:25-1694800800-1694811600@www.visansvannervasteras.se
SUMMARY:Vismöte
DESCRIPTION:Genrep inför Kulturnatt och Skördefest
URL:https://www.visansvannervasteras.se/event/vismote-2/
LOCATION:ABF Ängsgärdet\, Pilgatan 2\, Västerås\, Sverige
ORGANIZER;CN="Per H%C3%A4gg":MAILTO:per@haggsmusic.se
END:VEVENT
END:VCALENDAR