BEGIN:VCALENDAR
VERSION:2.0
PRODID:-//Visans Vänner Västerås - ECPv6.15.20//NONSGML v1.0//EN
CALSCALE:GREGORIAN
METHOD:PUBLISH
X-WR-CALNAME:Visans Vänner Västerås
X-ORIGINAL-URL:https://www.visansvannervasteras.se
X-WR-CALDESC:Händelser för Visans Vänner Västerås
REFRESH-INTERVAL;VALUE=DURATION:PT1H
X-Robots-Tag:noindex
X-PUBLISHED-TTL:PT1H
BEGIN:VTIMEZONE
TZID:Europe/Stockholm
BEGIN:DAYLIGHT
TZOFFSETFROM:+0100
TZOFFSETTO:+0200
TZNAME:CEST
DTSTART:20220327T010000
END:DAYLIGHT
BEGIN:STANDARD
TZOFFSETFROM:+0200
TZOFFSETTO:+0100
TZNAME:CET
DTSTART:20221030T010000
END:STANDARD
BEGIN:DAYLIGHT
TZOFFSETFROM:+0100
TZOFFSETTO:+0200
TZNAME:CEST
DTSTART:20230326T010000
END:DAYLIGHT
BEGIN:STANDARD
TZOFFSETFROM:+0200
TZOFFSETTO:+0100
TZNAME:CET
DTSTART:20231029T010000
END:STANDARD
BEGIN:DAYLIGHT
TZOFFSETFROM:+0100
TZOFFSETTO:+0200
TZNAME:CEST
DTSTART:20240331T010000
END:DAYLIGHT
BEGIN:STANDARD
TZOFFSETFROM:+0200
TZOFFSETTO:+0100
TZNAME:CET
DTSTART:20241027T010000
END:STANDARD
BEGIN:DAYLIGHT
TZOFFSETFROM:+0100
TZOFFSETTO:+0200
TZNAME:CEST
DTSTART:20250330T010000
END:DAYLIGHT
BEGIN:STANDARD
TZOFFSETFROM:+0200
TZOFFSETTO:+0100
TZNAME:CET
DTSTART:20251026T010000
END:STANDARD
BEGIN:DAYLIGHT
TZOFFSETFROM:+0100
TZOFFSETTO:+0200
TZNAME:CEST
DTSTART:20260329T010000
END:DAYLIGHT
BEGIN:STANDARD
TZOFFSETFROM:+0200
TZOFFSETTO:+0100
TZNAME:CET
DTSTART:20261025T010000
END:STANDARD
END:VTIMEZONE
BEGIN:VEVENT
DTSTART;TZID=Europe/Stockholm:20250919T173000
DTEND;TZID=Europe/Stockholm:20250919T210000
DTSTAMP:20260419T163654
CREATED:20241219T174111Z
LAST-MODIFIED:20250901T125742Z
UID:383-1758303000-1758315600@www.visansvannervasteras.se
SUMMARY:Vismöte September - Tema Jubileumskonsert
DESCRIPTION:Vi träffas på höstens första vismöte och sjunger tänkbara visor till vår Jubileumskonsert den 5 Oktober. \nProgramvärd Per-Åke Folkesson och Häggarna \n 
URL:https://www.visansvannervasteras.se/event/vismote-september/
LOCATION:ABF Ängsgärdet\, Pilgatan 2\, Västerås\, Sverige
END:VEVENT
BEGIN:VEVENT
DTSTART;VALUE=DATE:20250802
DTEND;VALUE=DATE:20250803
DTSTAMP:20260419T163654
CREATED:20241219T173655Z
LAST-MODIFIED:20241219T181659Z
UID:380-1754092800-1754179199@www.visansvannervasteras.se
SUMMARY:Karindagen - Vallby friluftsmuseum
DESCRIPTION:Visans Vänner underhåller på Vallby friluftsmuseum på  Karin-dagen \nProgramvärd Per-Åke Folkesson \nTidpunkt meddelas senare.
URL:https://www.visansvannervasteras.se/event/karindagen-vallby-friluftsmuseum/
LOCATION:Vallby Friluftsmusseum\, Skerikesvägen 2\, Västerås\, 724 80\, Sverige
END:VEVENT
BEGIN:VEVENT
DTSTART;TZID=Europe/Stockholm:20250525T120000
DTEND;TZID=Europe/Stockholm:20250525T130000
DTSTAMP:20260419T163654
CREATED:20241219T173052Z
LAST-MODIFIED:20250521T151552Z
UID:375-1748174400-1748178000@www.visansvannervasteras.se
SUMMARY:Mors Dag hos Carlsson på Kajen - Visor till Mor
DESCRIPTION:
URL:https://www.visansvannervasteras.se/event/mors-dag-hos-carlsson-pa-kajen-visor-till-mor/
LOCATION:Carlsson på kajen\, Lögarängsvägen 5\, Västerås
END:VEVENT
BEGIN:VEVENT
DTSTART;TZID=Europe/Stockholm:20250516T173000
DTEND;TZID=Europe/Stockholm:20250516T210000
DTSTAMP:20260419T163654
CREATED:20241219T173351Z
LAST-MODIFIED:20241219T173351Z
UID:378-1747416600-1747429200@www.visansvannervasteras.se
SUMMARY:Vismöte - Visor till Mor
DESCRIPTION:Vi repeterar inför konserten på Mors dag \nProgramvärd  Per Hägg
URL:https://www.visansvannervasteras.se/event/vismote-visor-till-mor/
LOCATION:ABF Ängsgärdet\, Pilgatan 2\, Västerås\, Sverige
END:VEVENT
BEGIN:VEVENT
DTSTART;TZID=Europe/Stockholm:20250411T173000
DTEND;TZID=Europe/Stockholm:20250411T210000
DTSTAMP:20260419T163654
CREATED:20241219T172644Z
LAST-MODIFIED:20241219T172644Z
UID:373-1744392600-1744405200@www.visansvannervasteras.se
SUMMARY:Vismöte - Andliga visor
DESCRIPTION:Vismöte med tema Andliga visor \nProgramvärd Ingrid Mörnänge
URL:https://www.visansvannervasteras.se/event/vismote-andliga-visor/
LOCATION:ABF Ängsgärdet\, Pilgatan 2\, Västerås\, Sverige
END:VEVENT
BEGIN:VEVENT
DTSTART;TZID=Europe/Stockholm:20250325T130000
DTEND;TZID=Europe/Stockholm:20250325T150000
DTSTAMP:20260419T163654
CREATED:20241219T171638Z
LAST-MODIFIED:20241227T220628Z
UID:364-1742907600-1742914800@www.visansvannervasteras.se
SUMMARY:Träffpunkt Tomas
DESCRIPTION:Visans Vänner underhåller på Träffpunkt Tomas. \nProgramvärd: Häggarna
URL:https://www.visansvannervasteras.se/event/traffpunkt-tomas-2/
LOCATION:Tomasgården Skiljebo\, Cedergatan 1\, Västerås
END:VEVENT
BEGIN:VEVENT
DTSTART;TZID=Europe/Stockholm:20250308T160000
DTEND;TZID=Europe/Stockholm:20250308T170000
DTSTAMP:20260419T163654
CREATED:20241219T172403Z
LAST-MODIFIED:20250302T204131Z
UID:369-1741449600-1741453200@www.visansvannervasteras.se
SUMMARY:Visans Dag - Konsert
DESCRIPTION:
URL:https://www.visansvannervasteras.se/event/visans-dag-konsert/
LOCATION:Café Mosaic\, Smedjegatan 2\, Västerås\, 722 13\, Sverige
END:VEVENT
BEGIN:VEVENT
DTSTART;TZID=Europe/Stockholm:20250307T173000
DTEND;TZID=Europe/Stockholm:20250307T210000
DTSTAMP:20260419T163654
CREATED:20241219T171854Z
LAST-MODIFIED:20241219T171854Z
UID:367-1741368600-1741381200@www.visansvannervasteras.se
SUMMARY:Vismöte inför Visans Dag
DESCRIPTION:Vismöte där vi repeterar inför Visans Dag \nProgramvärd Per Hägg
URL:https://www.visansvannervasteras.se/event/vismote-infor-visans-dag/
LOCATION:ABF Ängsgärdet\, Pilgatan 2\, Västerås\, Sverige
END:VEVENT
BEGIN:VEVENT
DTSTART;TZID=Europe/Stockholm:20250214T173000
DTEND;TZID=Europe/Stockholm:20250214T210000
DTSTAMP:20260419T163654
CREATED:20241219T171108Z
LAST-MODIFIED:20241219T183828Z
UID:361-1739554200-1739566800@www.visansvannervasteras.se
SUMMARY:Vismöte och Årsmöte
DESCRIPTION:Årsmöte och sedan vismöte. \nTema Önskevisan! \nProgramvärd Gunilla Hägg
URL:https://www.visansvannervasteras.se/event/vismote-och-arsmote-2/
LOCATION:ABF Ängsgärdet\, Pilgatan 2\, Västerås\, Sverige
END:VEVENT
BEGIN:VEVENT
DTSTART;TZID=Europe/Stockholm:20250117T173000
DTEND;TZID=Europe/Stockholm:20250117T210000
DTSTAMP:20260419T163654
CREATED:20241219T170806Z
LAST-MODIFIED:20241219T170806Z
UID:359-1737135000-1737147600@www.visansvannervasteras.se
SUMMARY:Vismöte Januari
DESCRIPTION:Vi träffas på årets första vismöte och sjunger. \nProgramvärd Ann-Marie Hindersson
URL:https://www.visansvannervasteras.se/event/vismote-januari-2/
LOCATION:ABF Ängsgärdet\, Pilgatan 2\, Västerås\, Sverige
ORGANIZER;CN="Per H%C3%A4gg":MAILTO:per@haggsmusic.se
END:VEVENT
BEGIN:VEVENT
DTSTART;TZID=Europe/Stockholm:20241206T173000
DTEND;TZID=Europe/Stockholm:20241206T210000
DTSTAMP:20260419T163654
CREATED:20240908T094157Z
LAST-MODIFIED:20240908T094157Z
UID:291-1733506200-1733518800@www.visansvannervasteras.se
SUMMARY:Vismöte och Julfest - JulKul
DESCRIPTION:Visans Vänner Västerås Årliga Julfest! \nVi träffas och sjunger Jul-sånger i olika former. \nProgramvärd Lisbet Gemzell
URL:https://www.visansvannervasteras.se/event/vismote-och-julfest-julkul/
LOCATION:ABF Ängsgärdet\, Pilgatan 2\, Västerås\, Sverige
ORGANIZER;CN="Per H%C3%A4gg":MAILTO:per@haggsmusic.se
END:VEVENT
BEGIN:VEVENT
DTSTART;TZID=Europe/Stockholm:20241112T130000
DTEND;TZID=Europe/Stockholm:20241112T150000
DTSTAMP:20260419T163654
CREATED:20240109T171614Z
LAST-MODIFIED:20241110T083828Z
UID:286-1731416400-1731423600@www.visansvannervasteras.se
SUMMARY:Träffpunkt Tomas - Samling vid pumpen
DESCRIPTION:Programvärd är Per-Åke Folkesson.
URL:https://www.visansvannervasteras.se/event/traffpunkt-tomas-samling-vid-pumpen/
LOCATION:Tomasgården Skiljebo\, Cedergatan 1\, Västerås
END:VEVENT
BEGIN:VEVENT
DTSTART;TZID=Europe/Stockholm:20241108T173000
DTEND;TZID=Europe/Stockholm:20241108T210000
DTSTAMP:20260419T163654
CREATED:20240908T093707Z
LAST-MODIFIED:20241009T171621Z
UID:347-1731087000-1731099600@www.visansvannervasteras.se
SUMMARY:Vismöte - Ulf Peder Olrog
DESCRIPTION:Vismöte-  Visor till vårt framförande på Träffpunkt Tomas \nTema: ”Ulf Peder Olrog” \nProgramvärd Per-Åke Folkesson
URL:https://www.visansvannervasteras.se/event/vismote-ulf-peder-olrog/
LOCATION:ABF Ängsgärdet\, Pilgatan 2\, Västerås\, Sverige
END:VEVENT
BEGIN:VEVENT
DTSTART;TZID=Europe/Stockholm:20241011T173000
DTEND;TZID=Europe/Stockholm:20241011T210000
DTSTAMP:20260419T163654
CREATED:20240109T171248Z
LAST-MODIFIED:20240908T093031Z
UID:284-1728667800-1728680400@www.visansvannervasteras.se
SUMMARY:Vismöte - Tema Cornelis Vreeswijk
DESCRIPTION:Vismöte Tema Cornelis Vreeswijk \nBarbro och Kjell är programvärdar
URL:https://www.visansvannervasteras.se/event/vismote-oktober/
LOCATION:ABF Ängsgärdet\, Pilgatan 2\, Västerås\, Sverige
END:VEVENT
BEGIN:VEVENT
DTSTART;TZID=Europe/Stockholm:20241002T140000
DTEND;TZID=Europe/Stockholm:20241002T153000
DTSTAMP:20260419T163654
CREATED:20231230T190145Z
LAST-MODIFIED:20240906T062642Z
UID:273-1727877600-1727883000@www.visansvannervasteras.se
SUMMARY:Flodinsgården
DESCRIPTION:Visans Vänner Västerås underhåller på Flodinsgården \n 
URL:https://www.visansvannervasteras.se/event/vasteras-kulturnatt/
ORGANIZER;CN="Per H%C3%A4gg":MAILTO:per@haggsmusic.se
END:VEVENT
BEGIN:VEVENT
DTSTART;TZID=Europe/Stockholm:20240913T173000
DTEND;TZID=Europe/Stockholm:20240913T210000
DTSTAMP:20260419T163654
CREATED:20231230T170028Z
LAST-MODIFIED:20240906T063050Z
UID:270-1726248600-1726261200@www.visansvannervasteras.se
SUMMARY:Vismöte - Genrep inför Flodinsgården - Tema Fria Visor och Höstglöd
DESCRIPTION:Vi träffas för höstens första vismöte. Det blir delvis ett genrep inför framträdandet på Flodinsgården i början oktober. \nTema Fria Visor och Höstglöd. \nProgramvärd Per och Gunilla Hägg
URL:https://www.visansvannervasteras.se/event/vismote-genrep-infor-kulturnatt-och-skordefest/
LOCATION:ABF Ängsgärdet\, Pilgatan 2\, Västerås\, Sverige
ORGANIZER;CN="Per H%C3%A4gg":MAILTO:per@haggsmusic.se
END:VEVENT
BEGIN:VEVENT
DTSTART;VALUE=DATE:20240802
DTEND;VALUE=DATE:20240803
DTSTAMP:20260419T163654
CREATED:20231230T165645Z
LAST-MODIFIED:20231230T165645Z
UID:262-1722556800-1722643199@www.visansvannervasteras.se
SUMMARY:Karindagen på Vallby
DESCRIPTION:Västerås Hembygdsförening bjuder in till namnsdagsfirande av Karin på Vallby Friluftsmuseum med föredrag och visning av herrgården och lusthuset. Visans Vänner Västerås medverkar. \nPer-Åke Folkesson är programvärd förframförandet av Visans Vänner. \nTider meddelas senare. \n 
URL:https://www.visansvannervasteras.se/event/karindagen-pa-vallby/
ORGANIZER;CN="Per-%C3%85ke Folkesson":MAILTO:hultpelle@gmail.com
END:VEVENT
BEGIN:VEVENT
DTSTART;TZID=Europe/Stockholm:20240517T173000
DTEND;TZID=Europe/Stockholm:20240517T210000
DTSTAMP:20260419T163654
CREATED:20231230T115847Z
LAST-MODIFIED:20231230T120020Z
UID:258-1715967000-1715979600@www.visansvannervasteras.se
SUMMARY:Vismöte Maj
DESCRIPTION:Vismöte mitt i sköna maj på Norges Nationaldag! \nTema och programvärd är öppet för förslag!
URL:https://www.visansvannervasteras.se/event/vismote-maj/
LOCATION:ABF Ängsgärdet\, Pilgatan 2\, Västerås\, Sverige
ORGANIZER;CN="Per H%C3%A4gg":MAILTO:per@haggsmusic.se
END:VEVENT
BEGIN:VEVENT
DTSTART;TZID=Europe/Stockholm:20240412T173000
DTEND;TZID=Europe/Stockholm:20240412T210000
DTSTAMP:20260419T163654
CREATED:20231230T115544Z
LAST-MODIFIED:20240314T132644Z
UID:255-1712943000-1712955600@www.visansvannervasteras.se
SUMMARY:Vismöte April
DESCRIPTION:Vismöte mitt i våren. \nTemat är ”Folkvisor” med Ida Olofsson som programvärd \n 
URL:https://www.visansvannervasteras.se/event/vismote-april/
LOCATION:ABF Ängsgärdet\, Pilgatan 2\, Västerås\, Sverige
ORGANIZER;CN="Per H%C3%A4gg":MAILTO:per@haggsmusic.se
END:VEVENT
BEGIN:VEVENT
DTSTART;TZID=Europe/Stockholm:20240315T173000
DTEND;TZID=Europe/Stockholm:20240315T210000
DTSTAMP:20260419T163654
CREATED:20231230T115011Z
LAST-MODIFIED:20240314T132558Z
UID:253-1710523800-1710536400@www.visansvannervasteras.se
SUMMARY:Vismöte - Fria visor
DESCRIPTION:Vismöte med temat: ”Fria visor” \nProgramvärd är: Ann-Marie Hindersson
URL:https://www.visansvannervasteras.se/event/vismote-fria-visor/
LOCATION:ABF Ängsgärdet\, Pilgatan 2\, Västerås\, Sverige
ORGANIZER;CN="Per H%C3%A4gg":MAILTO:per@haggsmusic.se
END:VEVENT
BEGIN:VEVENT
DTSTART;TZID=Europe/Stockholm:20240309T120000
DTEND;TZID=Europe/Stockholm:20240309T131500
DTSTAMP:20260419T163654
CREATED:20231229T135333Z
LAST-MODIFIED:20240304T175954Z
UID:243-1709985600-1709990100@www.visansvannervasteras.se
SUMMARY:Visans Dag - Viskonsert
DESCRIPTION:Västerås huvudbibliotek\, Hörsalen \nLördagen den 9 mars kl. 12.00 firar medlemmar från Visans Vänner i Västerås ”Visans dag” med\natt bjuda på ett varierat program där kända och okända visor framföres.\nKom\, lyssna och sjung med i allsångerna.
URL:https://www.visansvannervasteras.se/event/visans-dag-viskonsert/
LOCATION:Västerås Stadbibliotek\, Biskopsgatan 2\, Västerås\, 722 16\, Sverige
END:VEVENT
BEGIN:VEVENT
DTSTART;TZID=Europe/Stockholm:20240302T150000
DTEND;TZID=Europe/Stockholm:20240302T180000
DTSTAMP:20260419T163654
CREATED:20231229T133747Z
LAST-MODIFIED:20240109T154808Z
UID:241-1709391600-1709402400@www.visansvannervasteras.se
SUMMARY:Genrep inför Visans Dag
DESCRIPTION:Framförallt medverkande på Visans dag ses för ett gen-rep. \nOBS! Medtag eget fika!
URL:https://www.visansvannervasteras.se/event/genrep-infor-visans-dag/
END:VEVENT
BEGIN:VEVENT
DTSTART;TZID=Europe/Stockholm:20240220T130000
DTEND;TZID=Europe/Stockholm:20240220T150000
DTSTAMP:20260419T163654
CREATED:20240109T154653Z
LAST-MODIFIED:20240117T155252Z
UID:277-1708434000-1708441200@www.visansvannervasteras.se
SUMMARY:Träffpunkt Tomas - "Mot ljusare tider"
DESCRIPTION:Visans Vänner underhåller på Träffpunkt Tomas\, Skiljebo. \nTema: Mot ljusare tider \nProgramvärdar är Häggarna.
URL:https://www.visansvannervasteras.se/event/traffpunkt-tomas-mot-ljusare-tider/
LOCATION:Tomasgården Skiljebo\, Cedergatan 1\, Västerås
END:VEVENT
BEGIN:VEVENT
DTSTART;TZID=Europe/Stockholm:20240216T173000
DTEND;TZID=Europe/Stockholm:20240216T210000
DTSTAMP:20260419T163654
CREATED:20231229T133508Z
LAST-MODIFIED:20240109T210112Z
UID:238-1708104600-1708117200@www.visansvannervasteras.se
SUMMARY:Vismöte och Årsmöte - ”Mot ljuset”
DESCRIPTION:Vi ses för ett kombinerat Vis- och Års-möte! \nTema: ”Mot ljuset” \nGunilla Hägg är programvärd.
URL:https://www.visansvannervasteras.se/event/vismote-och-arsmote/
END:VEVENT
BEGIN:VEVENT
DTSTART;TZID=Europe/Stockholm:20240119T173000
DTEND;TZID=Europe/Stockholm:20240119T210000
DTSTAMP:20260419T163654
CREATED:20231229T133248Z
LAST-MODIFIED:20231230T114129Z
UID:236-1705685400-1705698000@www.visansvannervasteras.se
SUMMARY:Vismöte Januari - ”Den litterära visan”
DESCRIPTION:Fredagen den 19 januari träffas vi för årets första vismöte med tema ”Den litterära visan”. \nLisbet Gemzell är programvärd
URL:https://www.visansvannervasteras.se/event/vismote-januari/
LOCATION:ABF Ängsgärdet\, Pilgatan 2\, Västerås\, Sverige
ORGANIZER;CN="Per H%C3%A4gg":MAILTO:per@haggsmusic.se
END:VEVENT
BEGIN:VEVENT
DTSTART;TZID=Europe/Stockholm:20231208T173000
DTEND;TZID=Europe/Stockholm:20231208T210000
DTSTAMP:20260419T163654
CREATED:20231009T084423Z
LAST-MODIFIED:20231021T133618Z
UID:199-1702056600-1702069200@www.visansvannervasteras.se
SUMMARY:Vismöte och Julfest
DESCRIPTION:Visans Vänner Västerås Årliga Julfest \nProgramvärd Lisbet Gemzell och Håkan Janson
URL:https://www.visansvannervasteras.se/event/vismote-och-julfest/
LOCATION:ABF Ängsgärdet\, Pilgatan 2\, Västerås\, Sverige
ORGANIZER;CN="Per H%C3%A4gg":MAILTO:per@haggsmusic.se
END:VEVENT
BEGIN:VEVENT
DTSTART;TZID=Europe/Stockholm:20231110T173000
DTEND;TZID=Europe/Stockholm:20231110T210000
DTSTAMP:20260419T163654
CREATED:20231009T084206Z
LAST-MODIFIED:20231021T133232Z
UID:197-1699637400-1699650000@www.visansvannervasteras.se
SUMMARY:Vismöte - Tema Musik från Grekland
DESCRIPTION:Vismöte med tema Musik från Grekland \nProgramvärd:  Dick Söderholm med hjälp av  Gunnar Törngren
URL:https://www.visansvannervasteras.se/event/vismote-tema-cornelis-vreeswijk/
LOCATION:ABF Ängsgärdet\, Pilgatan 2\, Västerås\, Sverige
ORGANIZER;CN="Per H%C3%A4gg":MAILTO:per@haggsmusic.se
END:VEVENT
BEGIN:VEVENT
DTSTART;TZID=Europe/Stockholm:20231024T130000
DTEND;TZID=Europe/Stockholm:20231024T150000
DTSTAMP:20260419T163654
CREATED:20231009T083521Z
LAST-MODIFIED:20231021T133838Z
UID:194-1698152400-1698159600@www.visansvannervasteras.se
SUMMARY:Träffpunkt Tomas
DESCRIPTION:Visans Vänner underhåller på Träffpunkt Tomas med start kl. 13\, Tema Hösten \nProgramvärd: Per-Åke Folkesson
URL:https://www.visansvannervasteras.se/event/traffpunkt-tomas/
LOCATION:Tomasgården Skiljebo\, Cedergatan 1\, Västerås
END:VEVENT
BEGIN:VEVENT
DTSTART;TZID=Europe/Stockholm:20231013T173000
DTEND;TZID=Europe/Stockholm:20231013T210000
DTSTAMP:20260419T163654
CREATED:20230904T142229Z
LAST-MODIFIED:20231009T085233Z
UID:32-1697218200-1697230800@www.visansvannervasteras.se
SUMMARY:Vismöte - Tema Hösten
DESCRIPTION:Vismöte – Tema Hösten \nProgramansvarig: Per-Åke Folkesson
URL:https://www.visansvannervasteras.se/event/vismote/
LOCATION:ABF Ängsgärdet\, Pilgatan 2\, Västerås\, Sverige
END:VEVENT
BEGIN:VEVENT
DTSTART;TZID=Europe/Stockholm:20230923T120000
DTEND;TZID=Europe/Stockholm:20230923T160000
DTSTAMP:20260419T163654
CREATED:20230904T141937Z
LAST-MODIFIED:20230917T112254Z
UID:29-1695470400-1695484800@www.visansvannervasteras.se
SUMMARY:Skördefest på Västerås Officersmäss
DESCRIPTION:
URL:https://www.visansvannervasteras.se/event/skordefest/
LOCATION:Västerås Officersmäss\, Flottiljgatan 73\, Västerås\, Sverige
END:VEVENT
END:VCALENDAR