BEGIN:VCALENDAR
VERSION:2.0
PRODID:-//Visans Vänner Västerås - ECPv6.15.20//NONSGML v1.0//EN
CALSCALE:GREGORIAN
METHOD:PUBLISH
X-ORIGINAL-URL:https://www.visansvannervasteras.se
X-WR-CALDESC:Händelser för Visans Vänner Västerås
REFRESH-INTERVAL;VALUE=DURATION:PT1H
X-Robots-Tag:noindex
X-PUBLISHED-TTL:PT1H
BEGIN:VTIMEZONE
TZID:Europe/Stockholm
BEGIN:DAYLIGHT
TZOFFSETFROM:+0100
TZOFFSETTO:+0200
TZNAME:CEST
DTSTART:20250330T010000
END:DAYLIGHT
BEGIN:STANDARD
TZOFFSETFROM:+0200
TZOFFSETTO:+0100
TZNAME:CET
DTSTART:20251026T010000
END:STANDARD
BEGIN:DAYLIGHT
TZOFFSETFROM:+0100
TZOFFSETTO:+0200
TZNAME:CEST
DTSTART:20260329T010000
END:DAYLIGHT
BEGIN:STANDARD
TZOFFSETFROM:+0200
TZOFFSETTO:+0100
TZNAME:CET
DTSTART:20261025T010000
END:STANDARD
BEGIN:DAYLIGHT
TZOFFSETFROM:+0100
TZOFFSETTO:+0200
TZNAME:CEST
DTSTART:20270328T010000
END:DAYLIGHT
BEGIN:STANDARD
TZOFFSETFROM:+0200
TZOFFSETTO:+0100
TZNAME:CET
DTSTART:20271031T010000
END:STANDARD
END:VTIMEZONE
BEGIN:VEVENT
DTSTART;TZID=Europe/Stockholm:20260417T170000
DTEND;TZID=Europe/Stockholm:20260417T210000
DTSTAMP:20260419T145433
CREATED:20251212T142845Z
LAST-MODIFIED:20260331T171501Z
UID:446-1776445200-1776459600@www.visansvannervasteras.se
SUMMARY:Vismöte - "VIS-symfoni om våren"
DESCRIPTION:Programvärd: Gunilla Hägg
URL:https://www.visansvannervasteras.se/event/vismote-vis-symfoni-om-varen/
LOCATION:ABF Ängsgärdet\, Pilgatan 2\, Västerås\, Sverige
END:VEVENT
END:VCALENDAR