BEGIN:VCALENDAR
VERSION:2.0
PRODID:-//Visans Vänner Västerås - ECPv6.15.20//NONSGML v1.0//EN
CALSCALE:GREGORIAN
METHOD:PUBLISH
X-WR-CALNAME:Visans Vänner Västerås
X-ORIGINAL-URL:https://www.visansvannervasteras.se
X-WR-CALDESC:Händelser för Visans Vänner Västerås
REFRESH-INTERVAL;VALUE=DURATION:PT1H
X-Robots-Tag:noindex
X-PUBLISHED-TTL:PT1H
BEGIN:VTIMEZONE
TZID:Europe/Stockholm
BEGIN:DAYLIGHT
TZOFFSETFROM:+0100
TZOFFSETTO:+0200
TZNAME:CEST
DTSTART:20250330T010000
END:DAYLIGHT
BEGIN:STANDARD
TZOFFSETFROM:+0200
TZOFFSETTO:+0100
TZNAME:CET
DTSTART:20251026T010000
END:STANDARD
BEGIN:DAYLIGHT
TZOFFSETFROM:+0100
TZOFFSETTO:+0200
TZNAME:CEST
DTSTART:20260329T010000
END:DAYLIGHT
BEGIN:STANDARD
TZOFFSETFROM:+0200
TZOFFSETTO:+0100
TZNAME:CET
DTSTART:20261025T010000
END:STANDARD
BEGIN:DAYLIGHT
TZOFFSETFROM:+0100
TZOFFSETTO:+0200
TZNAME:CEST
DTSTART:20270328T010000
END:DAYLIGHT
BEGIN:STANDARD
TZOFFSETFROM:+0200
TZOFFSETTO:+0100
TZNAME:CET
DTSTART:20271031T010000
END:STANDARD
END:VTIMEZONE
BEGIN:VEVENT
DTSTART;TZID=Europe/Stockholm:20260116T170000
DTEND;TZID=Europe/Stockholm:20260116T210000
DTSTAMP:20260419T191839
CREATED:20251212T141801Z
LAST-MODIFIED:20251212T141801Z
UID:440-1768582800-1768597200@www.visansvannervasteras.se
SUMMARY:Vismöte - Tema Vinter
DESCRIPTION:Vi träffas på årets första Vismöte och sjunger visor med temat ”Vinter”.\nDet kan bli allt möjligt som relaterar till vad man kan uppleva vintertid\, Skidåkning\, Snö\, Is\, Kura skymning framför brasan.. \nProgramvärd: Håkan Janson
URL:https://www.visansvannervasteras.se/event/vismote-tema-vinter/
LOCATION:ABF Ängsgärdet\, Pilgatan 2\, Västerås\, Sverige
ORGANIZER;CN="Per H%C3%A4gg":MAILTO:per@haggsmusic.se
END:VEVENT
END:VCALENDAR