BEGIN:VCALENDAR
VERSION:2.0
PRODID:-//Visans Vänner Västerås - ECPv6.15.20//NONSGML v1.0//EN
CALSCALE:GREGORIAN
METHOD:PUBLISH
X-ORIGINAL-URL:https://www.visansvannervasteras.se
X-WR-CALDESC:Händelser för Visans Vänner Västerås
REFRESH-INTERVAL;VALUE=DURATION:PT1H
X-Robots-Tag:noindex
X-PUBLISHED-TTL:PT1H
BEGIN:VTIMEZONE
TZID:Europe/Stockholm
BEGIN:DAYLIGHT
TZOFFSETFROM:+0100
TZOFFSETTO:+0200
TZNAME:CEST
DTSTART:20240331T010000
END:DAYLIGHT
BEGIN:STANDARD
TZOFFSETFROM:+0200
TZOFFSETTO:+0100
TZNAME:CET
DTSTART:20241027T010000
END:STANDARD
BEGIN:DAYLIGHT
TZOFFSETFROM:+0100
TZOFFSETTO:+0200
TZNAME:CEST
DTSTART:20250330T010000
END:DAYLIGHT
BEGIN:STANDARD
TZOFFSETFROM:+0200
TZOFFSETTO:+0100
TZNAME:CET
DTSTART:20251026T010000
END:STANDARD
BEGIN:DAYLIGHT
TZOFFSETFROM:+0100
TZOFFSETTO:+0200
TZNAME:CEST
DTSTART:20260329T010000
END:DAYLIGHT
BEGIN:STANDARD
TZOFFSETFROM:+0200
TZOFFSETTO:+0100
TZNAME:CET
DTSTART:20261025T010000
END:STANDARD
END:VTIMEZONE
BEGIN:VEVENT
DTSTART;TZID=Europe/Stockholm:20250525T120000
DTEND;TZID=Europe/Stockholm:20250525T130000
DTSTAMP:20260422T112713
CREATED:20241219T173052Z
LAST-MODIFIED:20250521T151552Z
UID:375-1748174400-1748178000@www.visansvannervasteras.se
SUMMARY:Mors Dag hos Carlsson på Kajen - Visor till Mor
DESCRIPTION:
URL:https://www.visansvannervasteras.se/event/mors-dag-hos-carlsson-pa-kajen-visor-till-mor/
LOCATION:Carlsson på kajen\, Lögarängsvägen 5\, Västerås
END:VEVENT
END:VCALENDAR