BEGIN:VCALENDAR
VERSION:2.0
PRODID:-//Visans Vänner Västerås - ECPv6.15.20//NONSGML v1.0//EN
CALSCALE:GREGORIAN
METHOD:PUBLISH
X-WR-CALNAME:Visans Vänner Västerås
X-ORIGINAL-URL:https://www.visansvannervasteras.se
X-WR-CALDESC:Händelser för Visans Vänner Västerås
REFRESH-INTERVAL;VALUE=DURATION:PT1H
X-Robots-Tag:noindex
X-PUBLISHED-TTL:PT1H
BEGIN:VTIMEZONE
TZID:Europe/Stockholm
BEGIN:DAYLIGHT
TZOFFSETFROM:+0100
TZOFFSETTO:+0200
TZNAME:CEST
DTSTART:20230326T010000
END:DAYLIGHT
BEGIN:STANDARD
TZOFFSETFROM:+0200
TZOFFSETTO:+0100
TZNAME:CET
DTSTART:20231029T010000
END:STANDARD
BEGIN:DAYLIGHT
TZOFFSETFROM:+0100
TZOFFSETTO:+0200
TZNAME:CEST
DTSTART:20240331T010000
END:DAYLIGHT
BEGIN:STANDARD
TZOFFSETFROM:+0200
TZOFFSETTO:+0100
TZNAME:CET
DTSTART:20241027T010000
END:STANDARD
BEGIN:DAYLIGHT
TZOFFSETFROM:+0100
TZOFFSETTO:+0200
TZNAME:CEST
DTSTART:20250330T010000
END:DAYLIGHT
BEGIN:STANDARD
TZOFFSETFROM:+0200
TZOFFSETTO:+0100
TZNAME:CET
DTSTART:20251026T010000
END:STANDARD
END:VTIMEZONE
BEGIN:VEVENT
DTSTART;TZID=Europe/Stockholm:20241112T130000
DTEND;TZID=Europe/Stockholm:20241112T150000
DTSTAMP:20260422T204630
CREATED:20240109T171614Z
LAST-MODIFIED:20241110T083828Z
UID:286-1731416400-1731423600@www.visansvannervasteras.se
SUMMARY:Träffpunkt Tomas - Samling vid pumpen
DESCRIPTION:Programvärd är Per-Åke Folkesson.
URL:https://www.visansvannervasteras.se/event/traffpunkt-tomas-samling-vid-pumpen/
LOCATION:Tomasgården Skiljebo\, Cedergatan 1\, Västerås
END:VEVENT
END:VCALENDAR